{"text_format":"3","workbook":"xlsx","n_sheets":2,"sheets":["应聘登记表","汇总表"],"read":"whole","date_system":"1900"}

{"sheet":"应聘登记表","index":0,"n_rows":39,"n_cols":8,"rows_kept":39,"merged":[[0,0,0,7],[1,0,1,1],[1,2,1,3],[1,5,1,7],[2,0,2,1],[2,7,8,7],[3,0,3,1],[4,0,4,1],[5,0,5,1],[6,0,6,1],[6,2,6,3],[6,5,6,6],[7,0,7,1],[8,0,8,1],[8,2,8,3],[8,5,8,6],[9,0,14,0],[9,1,9,2],[9,3,9,4],[9,5,9,6],[10,3,10,4],[10,5,10,6],[11,3,11,4],[11,5,11,6],[12,3,12,4],[12,5,12,6],[13,3,13,4],[13,5,13,6],[14,3,14,4],[14,5,14,6],[15,0,18,0],[15,1,15,2],[15,3,15,4],[15,5,15,6],[16,1,16,2],[16,3,16,4],[16,5,16,6],[17,1,17,2],[17,3,17,4],[17,5,17,6],[18,1,18,2],[18,3,18,4],[18,5,18,6],[19,0,22,0],[19,1,19,2],[19,3,19,4],[19,5,19,7],[20,1,20,2],[20,3,20,4],[20,5,20,7],[21,1,21,2],[21,3,21,4],[21,5,21,7],[22,1,22,2],[22,3,22,4],[22,5,22,7],[23,0,26,0],[23,1,23,2],[23,3,23,4],[23,5,23,6],[24,1,24,2],[24,3,24,4],[24,5,24,6],[25,1,25,2],[25,3,25,4],[25,5,25,6],[26,1,26,2],[26,3,26,4],[26,5,26,6],[27,0,29,0],[27,1,27,2],[27,4,27,6],[28,1,28,2],[28,4,28,6],[29,1,29,2],[29,4,29,6],[30,1,30,7],[31,1,31,7],[32,1,32,7],[33,1,33,7],[34,1,34,7],[35,1,35,7],[36,0,37,0],[36,1,36,7],[37,1,37,7],[38,0,38,7]]}
["附件3：       北京石油化工学院应聘登记表（辅导员、管理岗位）"]
["设岗部门",{"$nulls":3},"岗位名称"]
["姓名",null,null,"性别",null,"出生日期",null,"近期免冠\n彩色照片"]
["籍贯",null,null,"民族",null,"政治面貌"]
["身心健康状况",null,null,"学历",null,"学位"]
["外语水平",null,null,"计算机水平",null,"毕业时间"]
["毕业院校",{"$nulls":3},"所学专业"]
["户口所在地",null,null,"户口类型",null,"手机号码"]
["身份证号",{"$nulls":3},"电子邮箱"]
["教育经历\n（从高中起）","起止年月",null,"学校名称\n（请填写全称，下同）",null,"所学专业",null,"所获学位"]
[null,"高中"]
[null,"大专"]
[null,"本科"]
[null,"硕士"]
[null,"博士"]
["学生干部经历","起止年月",null,"学校名称",null,"所在学生组织",null,"职务"]
[]
[]
[]
["社会实践经历（支教、社会服务等）","起止年月",null,"单位名称",null,"岗位及服务情况"]
[]
[]
[]
["工作经历（限正式工作）","起止年月",null,"单位名称",null,"岗位",null,"专业技术职务"]
[]
[]
[]
["国外访学、工作经历","起止年月",null,"国家","学校（或单位）名称",null,null,"类别\n（访学、工作等）"]
[]
[]
["获得表彰奖励情况"]
["所获学术科研成果"]
["受处分或不良记录情况"]
["来校工作思路及预期目标（500字以内）"]
["爱好、特长、自我评价（500字以内）"]
["其他需要说明的情况"]
["诚信声明","    本人承诺保证所填写资料真实，并自愿承担因隐瞒事实而带来的包括解聘等一切后果。"]
[null,"本人电子签名（拍照插入）：                    日期："]
["注： 教育背景和工作经历的年限要接续，待业请在最后一行“其他需要说明的情况”注明，时间上不要有空档期。时间上不接续的视为无效简历。"]

{"sheet":"汇总表","index":1,"n_rows":4,"n_cols":41,"rows_kept":4,"hidden":true,"merged":[[0,0,2,0],[0,1,2,1],[0,2,2,2],[0,3,2,3],[0,4,2,4],[0,5,2,5],[0,6,2,6],[0,7,2,7],[0,8,2,8],[0,9,2,9],[0,10,2,10],[0,11,2,11],[0,12,2,12],[0,13,2,13],[0,14,2,14],[0,15,2,15],[0,16,2,16],[0,17,2,17],[0,18,2,18],[0,19,0,26],[0,27,0,38],[0,39,2,39],[0,40,2,40],[1,19,1,22],[1,23,1,26],[1,27,1,30],[1,31,1,34],[1,35,1,38]]}
["姓名","身份证号","性别","出生日期","籍贯","民族","政治面貌","身心健康状况","学历","学位","外语水平","计算机水平","毕业院校","所学专业","毕业时间","户口所在地","户口类型","手机号码","电子邮箱","教育经历",{"$nulls":7},"学生干部经历",{"$nulls":11},"获得表彰奖励情况","所获学术科研成果"]
[{"$nulls":19},"本科",{"$nulls":3},"硕士",{"$nulls":3},"经历1",{"$nulls":3},"经历2",{"$nulls":3},"经历3"]
[{"$nulls":19},"起止时间","学校名称","所学专业","所获学位","起止时间","学校名称","所学专业","所获学位","起止年月","学校名称","所在学生组织","职务","起止年月","学校名称","所在学生组织","职务","起止年月","学校名称","所在学生组织","职务"]
[{"$f":"应聘登记表!C3","v":0},{"$f":"应聘登记表!C9","v":0},{"$f":"应聘登记表!E3","v":0},{"$f":"应聘登记表!G3","v":0},{"$f":"应聘登记表!C4","v":0},{"$f":"应聘登记表!E4","v":0},{"$f":"应聘登记表!G4","v":0},{"$f":"应聘登记表!C5","v":0},{"$f":"应聘登记表!E5","v":0},{"$f":"应聘登记表!G5","v":0},{"$f":"应聘登记表!C6","v":0},{"$f":"应聘登记表!E6","v":0},{"$f":"应聘登记表!C7","v":0},{"$f":"应聘登记表!F7","v":0},{"$f":"应聘登记表!G6","v":0},{"$f":"应聘登记表!C8","v":0},{"$f":"应聘登记表!E8","v":0},{"$f":"应聘登记表!G8","v":0},{"$f":"应聘登记表!F9","v":0},{"$f":"应聘登记表!C13","v":0},{"$f":"应聘登记表!D13","v":0},{"$f":"应聘登记表!F13","v":0},{"$f":"应聘登记表!H13","v":0},{"$f":"应聘登记表!C14","v":0},{"$f":"应聘登记表!D14","v":0},{"$f":"应聘登记表!F14","v":0},{"$f":"应聘登记表!H14","v":0},{"$f":"应聘登记表!B17","v":0},{"$f":"应聘登记表!D17","v":0},{"$f":"应聘登记表!F17","v":0},{"$f":"应聘登记表!H17","v":0},{"$f":"应聘登记表!B18","v":0},{"$f":"应聘登记表!D18","v":0},{"$f":"应聘登记表!F18","v":0},{"$f":"应聘登记表!H18","v":0},{"$f":"应聘登记表!B19","v":0},{"$f":"应聘登记表!D19","v":0},{"$f":"应聘登记表!F19","v":0},{"$f":"应聘登记表!H19","v":0},{"$f":"应聘登记表!B31","v":0},{"$f":"应聘登记表!B32","v":0}]